BEGIN:VCALENDAR
VERSION:2.0
PRODID:-//Tukios.com/
BEGIN:VEVENT
UID:44099c04-6c99-42e1-9079-b383a8cc9d04@www.johnsonfuneralhome.net
DTSTAMP:20260424T221234Z
DTSTART:20260428T210000Z
DTEND:20260429T010000Z
SUMMARY:Visitation
DESCRIPTION:
URL:https://www.johnsonfuneralhome.net/obituaries/carol-paggen
LOCATION: 4321 Lake St  Lake Charles LA 70605
GEO:30.1788957;-93.2318999
END:VEVENT
END:VCALENDAR