BEGIN:VCALENDAR
VERSION:2.0
PRODID:-//Tukios.com/
BEGIN:VEVENT
UID:8e01e571-6e0c-4dfa-939c-786ed7b232d8@www.johnsonfuneralhome.net
DTSTAMP:20260424T221235Z
DTSTART:20260429T133000Z
DTEND:20260429T143000Z
SUMMARY:Visitation
DESCRIPTION:
URL:https://www.johnsonfuneralhome.net/obituaries/carol-paggen
LOCATION: 4321 Lake St  Lake Charles LA 70605
GEO:30.1788957;-93.2318999
END:VEVENT
END:VCALENDAR