BEGIN:VCALENDAR
VERSION:2.0
PRODID:-//Tukios.com/
BEGIN:VEVENT
UID:05a830a3-edcc-4869-be66-549f5ab7f740@www.johnsonfuneralhome.net
DTSTAMP:20260424T222014Z
DTSTART:20260429T150000Z
DTEND:20260429T160000Z
SUMMARY:Mass of Christian Burial
DESCRIPTION:
URL:https://www.johnsonfuneralhome.net/obituaries/carol-paggen
LOCATION: 5495 Elliott Road  Lake Charles LA 70605
GEO:30.1584431;-93.2627968
END:VEVENT
END:VCALENDAR