BEGIN:VCALENDAR
VERSION:2.0
PRODID:-//Tukios.com/
BEGIN:VEVENT
UID:04f8e47c-dd9f-430a-9659-3db4bfecf61b@www.johnsonfuneralhome.net
DTSTAMP:20260420T231708Z
DTSTART:20260427T140000Z
DTEND:20260427T163000Z
SUMMARY:Public Viewing
DESCRIPTION:
URL:https://www.johnsonfuneralhome.net/obituaries/carroll-broussard
LOCATION:Johnson Funeral Home 4321 Lake Street  Lake Charles LA 70605
GEO:30.1788957;-93.2318999
END:VEVENT
END:VCALENDAR