BEGIN:VCALENDAR
VERSION:2.0
PRODID:-//Tukios.com/
BEGIN:VEVENT
UID:d1ad2c1f-7290-46be-a53c-741044260029@www.johnsonfuneralhome.net
DTSTAMP:20260420T231244Z
DTSTART:20260427T173000Z
DTEND:20260427T180000Z
SUMMARY:Graveside Service
DESCRIPTION:
URL:https://www.johnsonfuneralhome.net/obituaries/carroll-broussard
LOCATION:Southwest Louisiana Veteran's Cemetery 1610 Evangeline Rd.  
	Jennings LA 70546
GEO:30.2401923;-92.6399598
END:VEVENT
END:VCALENDAR