BEGIN:VCALENDAR
VERSION:2.0
PRODID:-//Tukios.com/
BEGIN:VEVENT
UID:fdf13865-27da-45c6-9b0c-2e2504580e87@www.johnsonfuneralhome.net
DTSTAMP:20260421T000642Z
DTSTART:20260422T140000Z
DTEND:20260422T150000Z
SUMMARY:Visitation
DESCRIPTION:
URL:https://www.johnsonfuneralhome.net/obituaries/george-guidry
LOCATION:Johnson Funeral Home of Iowa 505 US-90  Iowa LA 70647
GEO:30.2318908;-93.0068153
END:VEVENT
END:VCALENDAR