BEGIN:VCALENDAR
VERSION:2.0
PRODID:-//Tukios.com/
BEGIN:VEVENT
UID:b70bcb18-0b76-41e1-8a0f-48ef420a18ff@www.johnsonfuneralhome.net
DTSTAMP:20260421T001458Z
DTSTART:20260422T173000Z
DTEND:20260422T180000Z
SUMMARY:Rosary
DESCRIPTION:
URL:https://www.johnsonfuneralhome.net/obituaries/george-guidry
LOCATION: 505 US-90  Iowa LA 70647
GEO:30.2318908;-93.0068153
END:VEVENT
END:VCALENDAR