BEGIN:VCALENDAR
VERSION:2.0
PRODID:-//Tukios.com/
BEGIN:VEVENT
UID:fefa30cc-9243-4616-9827-21a4a2fe2b7d@www.johnsonfuneralhome.net
DTSTAMP:20260421T001230Z
DTSTART:20260422T180000Z
DTEND:20260422T190000Z
SUMMARY:Funeral Service
DESCRIPTION:
URL:https://www.johnsonfuneralhome.net/obituaries/george-guidry
LOCATION:Johnson Funeral Home of Iowa 505 US-90  Iowa LA 70647
GEO:30.2318908;-93.0068153
END:VEVENT
END:VCALENDAR