BEGIN:VCALENDAR
VERSION:2.0
PRODID:-//Tukios.com/
BEGIN:VEVENT
UID:5845ab14-f272-4200-84ba-7e893fe49c23@www.johnsonfuneralhome.net
DTSTAMP:20260421T000755Z
DTSTART:20260422T190000Z
DTEND:20260422T193000Z
SUMMARY:Burial
DESCRIPTION:
URL:https://www.johnsonfuneralhome.net/obituaries/george-guidry
LOCATION:Lorrain DeRouen Cemetery Lorraine Rd  Iowa LA 70647
GEO:30.1376442;-92.9161069
END:VEVENT
END:VCALENDAR