BEGIN:VCALENDAR
VERSION:2.0
PRODID:-//Tukios.com/
BEGIN:VEVENT
UID:4c9c5d22-25fb-43e7-9181-b071572aa750@www.johnsonfuneralhome.net
DTSTAMP:20260422T164709Z
DTSTART:20260423T170000Z
DTEND:20260423T180000Z
SUMMARY:Memorial Service
DESCRIPTION:
URL:https://www.johnsonfuneralhome.net/obituaries/kenneth-teal
LOCATION:Johnson Funeral Home of Sulphur 107 W Napoleon St  Sulphur LA 
	70663
GEO:30.2362602;-93.3777451
END:VEVENT
END:VCALENDAR