BEGIN:VCALENDAR
VERSION:2.0
PRODID:-//Tukios.com/
BEGIN:VEVENT
UID:ea97a83d-f86d-4437-83d0-ecb619e6b68a@www.johnsonfuneralhome.net
DTSTAMP:20260422T164224Z
DTSTART:20260423T150000Z
DTEND:20260423T170000Z
SUMMARY:Visitation
DESCRIPTION:
URL:https://www.johnsonfuneralhome.net/obituaries/kenneth-teal
LOCATION:Johnson Funeral Home of Sulphur 107 W Napoleon St  Sulphur LA 
	70663
GEO:30.2362602;-93.3777451
END:VEVENT
END:VCALENDAR