BEGIN:VCALENDAR
VERSION:2.0
PRODID:-//Tukios.com/
BEGIN:VEVENT
UID:aad0789a-5b2d-490b-9ad4-986349e3ba1f@www.johnsonfuneralhome.net
DTSTAMP:20260422T170748Z
DTSTART:20260425T170000Z
DTEND:20260425T190000Z
SUMMARY:Public Viewing
DESCRIPTION:
URL:https://www.johnsonfuneralhome.net/obituaries/saint-sartin-jr
LOCATION:Johnson Funeral Home - Moss Bluff 2171 N. Hwy 171  Lake Charles 
	LA 70611
GEO:30.3363527;-93.2009994
END:VEVENT
END:VCALENDAR