BEGIN:VCALENDAR
VERSION:2.0
PRODID:-//Tukios.com/
BEGIN:VEVENT
UID:d7ea4ff8-6ef2-487b-888f-e68b54fd8bb1@www.johnsonfuneralhome.net
DTSTAMP:20260422T170841Z
DTSTART:20260425T204500Z
DTEND:20260425T211500Z
SUMMARY:Graveside Service
DESCRIPTION:
URL:https://www.johnsonfuneralhome.net/obituaries/saint-sartin-jr
LOCATION:Westlake memorial Cemetery     
GEO:30.2978352;-93.2330673
END:VEVENT
END:VCALENDAR