BEGIN:VCALENDAR
VERSION:2.0
PRODID:-//Tukios.com/
BEGIN:VEVENT
UID:3c2dad2b-dfa5-415c-ac24-af2289022756@www.johnsonfuneralhome.net
DTSTAMP:20260422T170511Z
DTSTART:20260425T190000Z
DTEND:20260425T200000Z
SUMMARY:Funeral Service
DESCRIPTION:
URL:https://www.johnsonfuneralhome.net/obituaries/saint-sartin-jr
LOCATION:Johnson Funeral Home - Moss Bluff 2171 N. Hwy 171  Lake Charles 
	LA 70611
GEO:30.3363527;-93.2009994
END:VEVENT
END:VCALENDAR