BEGIN:VCALENDAR
VERSION:2.0
PRODID:-//Tukios.com/
BEGIN:VEVENT
UID:fcbe12ae-3ac3-4670-9ffa-0e37b6c058fd@www.johnsonfuneralhome.net
DTSTAMP:20260422T170722Z
DTSTART:20260424T220000Z
DTEND:20260425T010000Z
SUMMARY:Public Viewing
DESCRIPTION:
URL:https://www.johnsonfuneralhome.net/obituaries/saint-sartin-jr
LOCATION:Johnson Funeral Home - Moss Bluff 2171 N. Hwy 171  Lake Charles 
	LA 70611
GEO:30.3363527;-93.2009994
END:VEVENT
END:VCALENDAR