BEGIN:VCALENDAR
VERSION:2.0
PRODID:-//Tukios.com/
BEGIN:VEVENT
UID:30ae7a4d-8620-46cb-bbf9-a7ddfb42875a@www.johnsonfuneralhome.net
DTSTAMP:20260422T012536Z
DTSTART:20260502T150000Z
DTEND:20260502T160000Z
SUMMARY:Mass
DESCRIPTION:
URL:https://www.johnsonfuneralhome.net/obituaries/shirley-broussard
LOCATION:Our Lady Queen of Heaven Catholic Church 3939 Lake St.  Lake 
	Charles LA 70605
GEO:30.1859312;-93.2312285
END:VEVENT
END:VCALENDAR