BEGIN:VCALENDAR
VERSION:2.0
PRODID:-//Tukios.com/
BEGIN:VEVENT
UID:d4d5cc7d-1c0f-468a-b1b8-e6368fdc1de6@www.johnsonfuneralhome.net
DTSTAMP:20260422T012722Z
DTSTART:20260501T230000Z
DTEND:20260501T233000Z
SUMMARY:Rosary
DESCRIPTION:
URL:https://www.johnsonfuneralhome.net/obituaries/shirley-broussard
LOCATION:Johnson Funeral Home 4321 Lake Street  Lake Charles LA 70605
GEO:30.1788957;-93.2318999
END:VEVENT
END:VCALENDAR