BEGIN:VCALENDAR
VERSION:2.0
PRODID:-//Tukios.com/
BEGIN:VEVENT
UID:0caba0af-f44c-4d05-b711-2ededbb367b6@www.johnsonfuneralhome.net
DTSTAMP:20260422T012923Z
DTSTART:20260501T220000Z
DTEND:20260502T010000Z
SUMMARY:Gathering of Friends
DESCRIPTION:
URL:https://www.johnsonfuneralhome.net/obituaries/shirley-broussard
LOCATION:Johnson Funeral Home 4321 Lake Street  Lake Charles LA 70605
GEO:30.1788957;-93.2318999
END:VEVENT
END:VCALENDAR