BEGIN:VCALENDAR
VERSION:2.0
PRODID:-//Tukios.com/
BEGIN:VEVENT
UID:12519ef5-4ddc-4c31-bb98-3a48955625d4@www.johnsonfuneralhome.net
DTSTAMP:20260422T224123Z
DTSTART:20260425T180000Z
DTEND:20260425T190000Z
SUMMARY:Mass
DESCRIPTION:
URL:https://www.johnsonfuneralhome.net/obituaries/ursula-ieyoud
LOCATION:Cathedral of Immaculate Conception 935 Bilbo St.  Lake Charles 
	LA 70602
GEO:30.5190775;-91.5208624
END:VEVENT
END:VCALENDAR