BEGIN:VCALENDAR
VERSION:2.0
PRODID:-//Tukios.com/
BEGIN:VEVENT
UID:679ca257-0e56-482f-adda-9c77665d0127@www.johnsonfuneralhome.net
DTSTAMP:20260422T223934Z
DTSTART:20260502T160000Z
DTEND:20260502T170000Z
SUMMARY:Memorial Service
DESCRIPTION:
URL:https://www.johnsonfuneralhome.net/obituaries/willma-misse
LOCATION:Holy Trinity Episcopal Church 1700 Maplewood Dr  Sulphur LA 
	70663
GEO:30.2281971;-93.3576615
END:VEVENT
END:VCALENDAR