BEGIN:VCALENDAR
VERSION:2.0
PRODID:-//Tukios.com/
BEGIN:VEVENT
UID:111b85a7-1c04-4b3c-9590-da266aad7b12@www.johnsonfuneralhome.net
DTSTAMP:20260422T224857Z
DTSTART:20260502T160000Z
DTEND:20260502T160000Z
SUMMARY:Visitation
DESCRIPTION:
URL:https://www.johnsonfuneralhome.net/obituaries/willma-misse
LOCATION:Holy Trinity Episcopal Church 1700 Maplewood Dr  Sulphur LA 
	70663
GEO:30.2281971;-93.3576615
END:VEVENT
END:VCALENDAR